BEGIN:VCALENDAR
VERSION:2.0
PRODID:-//GDR mémoire - ECPv6.15.20//NONSGML v1.0//EN
CALSCALE:GREGORIAN
METHOD:PUBLISH
X-WR-CALNAME:GDR mémoire
X-ORIGINAL-URL:https://gdrmemoire.com
X-WR-CALDESC:Évènements pour GDR mémoire
REFRESH-INTERVAL;VALUE=DURATION:PT1H
X-Robots-Tag:noindex
X-PUBLISHED-TTL:PT1H
BEGIN:VTIMEZONE
TZID:Europe/Paris
BEGIN:DAYLIGHT
TZOFFSETFROM:+0100
TZOFFSETTO:+0200
TZNAME:CEST
DTSTART:20250330T010000
END:DAYLIGHT
BEGIN:STANDARD
TZOFFSETFROM:+0200
TZOFFSETTO:+0100
TZNAME:CET
DTSTART:20251026T010000
END:STANDARD
BEGIN:DAYLIGHT
TZOFFSETFROM:+0100
TZOFFSETTO:+0200
TZNAME:CEST
DTSTART:20260329T010000
END:DAYLIGHT
BEGIN:STANDARD
TZOFFSETFROM:+0200
TZOFFSETTO:+0100
TZNAME:CET
DTSTART:20261025T010000
END:STANDARD
BEGIN:DAYLIGHT
TZOFFSETFROM:+0100
TZOFFSETTO:+0200
TZNAME:CEST
DTSTART:20270328T010000
END:DAYLIGHT
BEGIN:STANDARD
TZOFFSETFROM:+0200
TZOFFSETTO:+0100
TZNAME:CET
DTSTART:20271031T010000
END:STANDARD
END:VTIMEZONE
BEGIN:VEVENT
DTSTART;TZID=Europe/Paris:20260424T130000
DTEND;TZID=Europe/Paris:20260424T143000
DTSTAMP:20260423T103104
CREATED:20260407T092222Z
LAST-MODIFIED:20260407T093838Z
UID:9096-1777035600-1777041000@gdrmemoire.com
SUMMARY:Conference en ligne - Gaen Plancher- Penser sans images : l’aphantasie révèle-t-elle une autre façon de raisonner ?
DESCRIPTION:Gaen Plancher du Laboratoire EMC de l’Université Lyon2 sera notre prochaine invitée \nPenser sans images : l’aphantasie révèle-t-elle une autre façon de raisonner ?
URL:https://gdrmemoire.com/evenement/https-gdrmemoire-com-2026-04-07-prochaine-conference-du-gdr-memoire-le-24-avril-a-13h/
END:VEVENT
END:VCALENDAR